Workbook

Sheet Template
A1: =IFERROR(IF($U$2="","Music Cue Sheet Template",IF($U$4="",$U$2,$U$2&", "&$U$4)),"") -> Music Cue Sheet Template | I1: Cue Sheet Classification: | J1: Original
I2: Date Prepared: | T2: Program (series, film, etc.) Title:
B3: Total budget | C3: 0 | Q3: =Today() -> 44459 | T3: Program Title AKA(s):
B4: Sweetening | C4: 0 | I4: DEADLINE: | J4: 44524 | Q4: DAYS LEFT: | R4: =DATEDIF(Q3,J4,"d") -> 65 | T4: Episode Title:
B5: Orchestra | C5: 0 | I5: Initial Airdate: | T5: Episode Title AKA(s):
C6: 0 | I6: Category: | J6: TV Movie | T6: Episode Number:
C7: 0 | I7: Version: | J7: Internet | T7: Production Number:
C8: 0 | I8: Network/Source: | T8: Frame rate:
C9: 0 | T9: Production Company:
C10: 0 | I10: Program/Show Duration: | J10: 59 | K10: min. | L10: 10 | N10: sec. | T10: Mailing Address:
B11: Left | C11: =SUM(C3-C4-C5-C6-C7-C8-C9-C10) -> 0 | I11: Total Music Duration Required: | J11: =IF(SUM(M17:M88)=0,"0:00:00",SUM(M17:M88)) -> 0.0041435185 | M11: (auto calc) | T11: Cue Sheet Prepared By:
I12: Composed | J12: =IFERROR(__xludf.DUMMYFUNCTION("IF(SUM(M17:M88)=0,""0:00:00"",SUM(filter(M17:M88, regexmatch(Z17:Z88,""Written""))))"),0.001388888888888891) -> 0.0013888889 | M12: (auto calc) | T12: Email Address:
A13: S_pesD3-6-2 | I13: Remaining | J13: =J11-J12 -> 0.0027546296 | M13: (auto calc)
AE14: Needs striping/swetening | AX14: Approved for final delivery
E15: Time In (optional) | I15: Time Out (optional) | M15: Duration | O15: In Action | P15: Out Action | Q15: Spotting notes and moods | R15: Themeatic material | T15: Composer/Writer | U15: Composer/Writer | V15: Publisher | W15: (optional) | X15: PRO | Y15: % | AM15: Midi mockup sent to orchestra | AO15: Protools session sent to orchestra | AQ15: Sections for recording | AY15: Sent to dub
A16: Seq. # | B16: Cue ID | C16: Cue Title (Song/Track Name) | D16: Usage | E16: h | F16: mm | G16: ss | H16: fr | I16: h | J16: mm | K16: ss | L16: fr | M16: min. | N16: sec. | S16: Role | T16: First (and Middle) Name | U16: Last Name | V16: Name | W16: IPI # | X16: Affiliation | Y16: Shares | Z16: Written status | AA16: Approved | AB16: Approved by | AC16: Film Cut Version | AD16: Film Cut file | AF16: MIDI Clean up | AG16: Score prepared | AH16: Score sent to orch. | AI16: Sent to | AJ16: Stems prepared | AK16: Stems sent to orch | AL16: Sent to | AN16: Sent to | AP16: Sent to | AQ16: Woodwinds | AR16: Brass | AS16: Perc | AT16: PiHaCe | AU16: Strings | AV16: Other/sweetening | AW16: Hybrid | AZ16: Sent to
A17: =IFERROR(IF((INDIRECT("A"&ROW()-1))="Seq. #",1,IF(ISTEXT(Template!$C17),COUNTA(INDIRECT("B20"):Template!$C17),"")),"") -> 1 | B17: XX_1m01_v1-1 | D17: BI | E17: 0.041678241 | H17: 22 | I17: 0.042361111 | L17: 0 | M17: =I17-E17 -> 0.00068287037 | S17: Composer | X17: TONO | Y17: 1 | Z17: Sketched | AA17: Approved | AC17: yyyymmdd | AD17: .mp4 | AE17: Stri | AF17: Not necessary | AG17: Not necessary | AH17: Not necessary | AJ17: Not done | AK17: Not done | AM17: Not done | AO17: Not done | AQ17: FALSE | AR17: FALSE | AS17: FALSE | AT17: FALSE | AU17: FALSE | AV17: FALSE | AW17: FALSE | AX17: FALSE | AY17: FALSE
A18: 2 | B18: XX_1m02_v1-1 | D18: BI | E18: 0.043055556 | I18: 0.044444444 | M18: =I18-E18 -> 0.0013888889 | Z18: Written | AA18: Not presented | AE18: Stri | AF18: Not done | AG18: Not done | AH18: Not done | AJ18: Not done | AK18: Not done | AM18: Not done | AO18: Not done | AQ18: FALSE | AR18: FALSE | AS18: FALSE | AT18: FALSE | AU18: FALSE | AV18: FALSE | AW18: FALSE | AX18: FALSE | AY18: FALSE
A19: 3 | B19: XX_1m03_v1-1 | D19: BI | E19: 0.084039352 | I19: 0.086111111 | M19: =I19-E19 -> 0.0020717593 | Z19: N/A | AA19: Not presented | AE19: Stri | AF19: Not done | AG19: Not done | AH19: Not done | AJ19: Not done | AK19: Not done | AM19: Not done | AO19: Not done | AQ19: FALSE | AR19: FALSE | AS19: FALSE | AT19: FALSE | AU19: FALSE | AV19: FALSE | AW19: FALSE | AX19: FALSE | AY19: FALSE
D20: BI | E20: 0 | I20: 0 | M20: =I20-E20 -> 0 | Z20: N/A | AA20: Not presented | AE20: No | AF20: Not done | AG20: Not done | AH20: Not done | AJ20: Not done | AK20: Not done | AM20: Not done | AO20: Not done | AQ20: FALSE | AR20: FALSE | AS20: FALSE | AT20: FALSE | AU20: FALSE | AV20: FALSE | AW20: FALSE | AX20: FALSE | AY20: FALSE
D21: BI | E21: 0 | I21: 0 | M21: =I21-E21 -> 0 | Z21: N/A | AA21: Not presented | AE21: No | AF21: Not done | AG21: Not done | AH21: Not done | AJ21: Not done | AK21: Not done | AM21: Not done | AO21: Not done | AQ21: FALSE | AR21: FALSE | AS21: FALSE | AT21: FALSE | AU21: FALSE | AV21: FALSE | AW21: FALSE | AX21: FALSE | AY21: FALSE
D22: BI | E22: 0 | I22: 0 | M22: =I22-E22 -> 0 | Z22: N/A | AA22: Not presented | AE22: No | AF22: Not done | AG22: Not done | AH22: Not done | AJ22: Not done | AK22: Not done | AM22: Not done | AO22: Not done | AQ22: FALSE | AR22: FALSE | AS22: FALSE | AT22: FALSE | AU22: FALSE | AV22: FALSE | AW22: FALSE | AX22: FALSE | AY22: FALSE
D23: BI | E23: 0 | I23: 0 | M23: =I23-E23 -> 0 | Z23: N/A | AA23: Not presented | AE23: No | AF23: Not done | AG23: Not done | AH23: Not done | AJ23: Not done | AK23: Not done | AM23: Not done | AO23: Not done | AQ23: FALSE | AR23: FALSE | AS23: FALSE | AT23: FALSE | AU23: FALSE | AV23: FALSE | AW23: FALSE | AX23: FALSE | AY23: FALSE
A24: =IFERROR(IF((INDIRECT("A"&ROW()-1))="Seq. #",1,IF(ISTEXT(Template!$C24),COUNTA(INDIRECT("B20"):Template!$C24),"")),"") | D24: BI | E24: 0 | I24: 0 | M24: =I24-E24 -> 0 | Z24: N/A | AA24: Not presented | AE24: No | AF24: Not done | AG24: Not done | AH24: Not done | AJ24: Not done | AK24: Not done | AM24: Not done | AO24: Not done | AQ24: FALSE | AR24: FALSE | AS24: FALSE | AT24: FALSE | AU24: FALSE | AV24: FALSE | AW24: FALSE | AX24: FALSE | AY24: FALSE
A25: =IFERROR(IF((INDIRECT("A"&ROW()-1))="Seq. #",1,IF(ISTEXT(Template!$C25),COUNTA(INDIRECT("B20"):Template!$C25),"")),"") | D25: BI | E25: 0 | I25: 0 | M25: =I25-E25 -> 0 | Z25: N/A | AA25: Not presented | AE25: No | AF25: Not done | AG25: Not done | AH25: Not done | AJ25: Not done | AK25: Not done | AM25: Not done | AO25: Not done | AQ25: FALSE | AR25: FALSE | AS25: FALSE | AT25: FALSE | AU25: FALSE | AV25: FALSE | AW25: FALSE | AX25: FALSE | AY25: FALSE
A26: =IFERROR(IF((INDIRECT("A"&ROW()-1))="Seq. #",1,IF(ISTEXT(Template!$C26),COUNTA(INDIRECT("B20"):Template!$C26),"")),"") | D26: BI | E26: 0 | I26: 0 | M26: =I26-E26 -> 0 | Z26: N/A | AA26: Not presented | AE26: No | AF26: Not done | AG26: Not done | AH26: Not done | AJ26: Not done | AK26: Not done | AM26: Not done | AO26: Not done | AQ26: FALSE | AR26: FALSE | AS26: FALSE | AT26: FALSE | AU26: FALSE | AV26: FALSE | AW26: FALSE | AX26: FALSE | AY26: FALSE
A27: =IFERROR(IF((INDIRECT("A"&ROW()-1))="Seq. #",1,IF(ISTEXT(Template!$C27),COUNTA(INDIRECT("B20"):Template!$C27),"")),"") | D27: BI | E27: 0 | I27: 0 | M27: =I27-E27 -> 0 | Z27: N/A | AA27: Not presented | AE27: No | AF27: Not done | AG27: Not done | AH27: Not done | AJ27: Not done | AK27: Not done | AM27: Not done | AO27: Not done | AQ27: FALSE | AR27: FALSE | AS27: FALSE | AT27: FALSE | AU27: FALSE | AV27: FALSE | AW27: FALSE | AX27: FALSE | AY27: FALSE
A28: =IFERROR(IF((INDIRECT("A"&ROW()-1))="Seq. #",1,IF(ISTEXT(Template!$C28),COUNTA(INDIRECT("B20"):Template!$C28),"")),"") | D28: BI | E28: 0 | I28: 0 | M28: =I28-E28 -> 0 | Z28: N/A | AA28: Not presented | AE28: No | AF28: Not done | AG28: Not done | AH28: Not done | AJ28: Not done | AK28: Not done | AM28: Not done | AO28: Not done | AQ28: FALSE | AR28: FALSE | AS28: FALSE | AT28: FALSE | AU28: FALSE | AV28: FALSE | AW28: FALSE | AX28: FALSE | AY28: FALSE
A29: =IFERROR(IF((INDIRECT("A"&ROW()-1))="Seq. #",1,IF(ISTEXT(Template!$C29),COUNTA(INDIRECT("B20"):Template!$C29),"")),"") | D29: BI | E29: 0 | I29: 0 | M29: =I29-E29 -> 0 | Z29: N/A | AA29: Not presented | AE29: No | AF29: Not done | AG29: Not done | AH29: Not done | AJ29: Not done | AK29: Not done | AM29: Not done | AO29: Not done | AQ29: FALSE | AR29: FALSE | AS29: FALSE | AT29: FALSE | AU29: FALSE | AV29: FALSE | AW29: FALSE | AX29: FALSE | AY29: FALSE
A30: =IFERROR(IF((INDIRECT("A"&ROW()-1))="Seq. #",1,IF(ISTEXT(Template!$C30),COUNTA(INDIRECT("B20"):Template!$C30),"")),"") | D30: BI | E30: 0 | I30: 0 | M30: =I30-E30 -> 0 | Z30: N/A | AA30: Not presented | AE30: No | AF30: Not done | AG30: Not done | AH30: Not done | AJ30: Not done | AK30: Not done | AM30: Not done | AO30: Not done | AQ30: FALSE | AR30: FALSE | AS30: FALSE | AT30: FALSE | AU30: FALSE | AV30: FALSE | AW30: FALSE | AX30: FALSE | AY30: FALSE
A31: =IFERROR(IF((INDIRECT("A"&ROW()-1))="Seq. #",1,IF(ISTEXT(Template!$C31),COUNTA(INDIRECT("B20"):Template!$C31),"")),"") | D31: BI | E31: 0 | I31: 0 | M31: =I31-E31 -> 0 | Z31: N/A | AA31: Not presented | AE31: No | AF31: Not done | AG31: Not done | AH31: Not done | AJ31: Not done | AK31: Not done | AM31: Not done | AO31: Not done | AQ31: FALSE | AR31: FALSE | AS31: FALSE | AT31: FALSE | AU31: FALSE | AV31: FALSE | AW31: FALSE | AX31: FALSE | AY31: FALSE
A32: =IFERROR(IF((INDIRECT("A"&ROW()-1))="Seq. #",1,IF(ISTEXT(Template!$C32),COUNTA(INDIRECT("B20"):Template!$C32),"")),"") | D32: BI | E32: 0 | I32: 0 | M32: =I32-E32 -> 0 | Z32: N/A | AA32: Not presented | AE32: No | AF32: Not done | AG32: Not done | AH32: Not done | AJ32: Not done | AK32: Not done | AM32: Not done | AO32: Not done | AQ32: FALSE | AR32: FALSE | AS32: FALSE | AT32: FALSE | AU32: FALSE | AV32: FALSE | AW32: FALSE | AX32: FALSE | AY32: FALSE
A33: =IFERROR(IF((INDIRECT("A"&ROW()-1))="Seq. #",1,IF(ISTEXT(Template!$C33),COUNTA(INDIRECT("B20"):Template!$C33),"")),"") | D33: BI | E33: 0 | I33: 0 | M33: =I33-E33 -> 0 | Z33: N/A | AA33: Not presented | AE33: No | AF33: Not done | AG33: Not done | AH33: Not done | AJ33: Not done | AK33: Not done | AM33: Not done | AO33: Not done | AQ33: FALSE | AR33: FALSE | AS33: FALSE | AT33: FALSE | AU33: FALSE | AV33: FALSE | AW33: FALSE | AX33: FALSE | AY33: FALSE
A34: =IFERROR(IF((INDIRECT("A"&ROW()-1))="Seq. #",1,IF(ISTEXT(Template!$C34),COUNTA(INDIRECT("B20"):Template!$C34),"")),"") | D34: BI | E34: 0 | I34: 0 | M34: =I34-E34 -> 0 | Z34: N/A | AA34: Not presented | AE34: No | AF34: Not done | AG34: Not done | AH34: Not done | AJ34: Not done | AK34: Not done | AM34: Not done | AO34: Not done | AQ34: FALSE | AR34: FALSE | AS34: FALSE | AT34: FALSE | AU34: FALSE | AV34: FALSE | AW34: FALSE | AX34: FALSE | AY34: FALSE
A35: =IFERROR(IF((INDIRECT("A"&ROW()-1))="Seq. #",1,IF(ISTEXT(Template!$C35),COUNTA(INDIRECT("B20"):Template!$C35),"")),"") | D35: BI | E35: 0 | I35: 0 | M35: =I35-E35 -> 0 | Z35: N/A | AA35: Not presented | AE35: No | AF35: Not done | AG35: Not done | AH35: Not done | AJ35: Not done | AK35: Not done | AM35: Not done | AO35: Not done | AQ35: FALSE | AR35: FALSE | AS35: FALSE | AT35: FALSE | AU35: FALSE | AV35: FALSE | AW35: FALSE | AX35: FALSE | AY35: FALSE
... A88: =IFERROR(IF((INDIRECT("A"&ROW()-1))="Seq. #",1,IF(ISTEXT(Template!$C88),COUNTA(INDIRECT("B20"):Template!$C88),"")),"") | D88: BI | E88: 0 | I88: 0 | M88: =I88-E88 -> 0 | Z88: N/A | AA88: Not presented | AE88: No | AF88: Not done | AG88: Not done | AH88: Not done | AJ88: Not done | AK88: Not done | AM88: Not done | AO88: Not done | AQ88: FALSE | AR88: FALSE | AS88: FALSE | AT88: FALSE | AU88: FALSE | AV88: FALSE | AW88: FALSE | AX88: FALSE | AY88: FALSE

Sheet Sheet1

Sheet hidat
A1: pesD3-6-6 | B1: YesNo | C1: Classification | D1: Version | E1: Usage | F1: Role | G1: Category | H1: Affiliation | I1: Approved | J1: Sweetening Striping | K1: PT Rec Prep | L1: Written status | M1: Sheet music Recording prep
A2: 7/22/2016, 6:41 PM | B2: Yes | C2: Original | D2: (Unknown) | E2: BI | G2: Arts | H2: TONO | I2: Not presented | J2: No | K2: No | L2: Written | M2: Done
B3: No | C3: Revision | D3: Airline | E3: BV | F3: Composer | G3: Broadcast | H3: STIM | I3: Cut | J3: Swe | K3: In prep | L3: Sketched | M3: Not done
D4: Cable | E4: VI | F4: Publisher | G4: Broadcast Series | H4: TEOSTO | I4: Revision | J4: Stri | K4: Yes | M4: Not necessary
D5: Edited for TV | E5: VV | G5: Cartoon | H5: KODA | I5: Approved | K5: Sent
D6: Home Video | E6: MT | F6: Arranger | G6: Cartoon Series
D7: Internet | E7: ET | G7: Children's Show | H7: SOCAN | L7: N/A
D8: Music Video | E8: Logo | G8: Children's Special | H8: PRS
D9: Network | G9: Cinema | H9: NS
D10: New Media | G10: Daytime Soap | H10: PD
D11: Non Broadcast | G11: Entertainment News | H11: Unknown
D12: Non US | G12: Finance
D13: PBS | G13: First Run Syndicated | H13: ABRAMUS
D14: Syndicated | G14: Game Show | H14: ACAM
D15: Theatrical | G15: Health | H15: ACDAM
D16: Theme Park | G16: Hobbies/Craft | H16: ACUM
D17: US | G17: Instructional | H17: ADAGP
G18: Magazine News | H18: ADDAF
G19: Mini-Series | H19: AEPI
G20: Movie | H20: AGADU
G21: Music | H21: AGAYC
G22: Music Special | H22: AKKA
G23: Music Video | H23: AKM
G24: Music Video Series | H24: ALBAUTOR
G25: News | H25: ALCS
G26: Non Broadcast | H26: AMAR
G27: Non Broadcast Series | H27: AMCOS
G28: Novela | H28: AMRA
G29: Paid Programs | H29: APA
... G50: TV Movie | H50: BSDA
H51: BUBEDRA
H52: BUCUDA
H53: BUMA
H54: BUMDA
H55: BURIDA
H56: BUS
H57: BUTODRA
H58: CAPAC
H59: CASH
H60: CASP
...
